BEGIN:VCALENDAR
VERSION:2.0
PRODID:-//Inspire With Angela - ECPv6.15.20//NONSGML v1.0//EN
CALSCALE:GREGORIAN
METHOD:PUBLISH
X-WR-CALNAME:Inspire With Angela
X-ORIGINAL-URL:https://inspirewithangela.com
X-WR-CALDESC:Events for Inspire With Angela
REFRESH-INTERVAL;VALUE=DURATION:PT1H
X-Robots-Tag:noindex
X-PUBLISHED-TTL:PT1H
BEGIN:VTIMEZONE
TZID:UTC
BEGIN:STANDARD
TZOFFSETFROM:+0000
TZOFFSETTO:+0000
TZNAME:UTC
DTSTART:20240101T000000
END:STANDARD
END:VTIMEZONE
BEGIN:VEVENT
DTSTART;VALUE=DATE:20250521
DTEND;VALUE=DATE:20250922
DTSTAMP:20260424T052647
CREATED:20250521T235026Z
LAST-MODIFIED:20250521T235026Z
UID:1058-1747785600-1758499199@inspirewithangela.com
SUMMARY:Sandbox- The joy of writing with Community Literacies Collaboration
DESCRIPTION:The Sandbox invites community literacies workers to write thought provoking\, accessible\, brief policy memos\, reports\, or essays on a timely issue within literacy learning and practice. \nPlease click the link below or here\, to enjoy my literacy narrative autobiography writing and other great writers who share their passions to inspire\, encourage\, and impact the world we live in. \n \nThank you CLC for our partnership to embrace literacy and its many facets. 
URL:https://inspirewithangela.com/event/sandbox-the-joy-of-writing-with-community-literacies-collaboration/
ATTACH;FMTTYPE=image/webp:https://inspirewithangela.com/wp-content/uploads/2025/05/Circle-Sticker-Book-Circle-2.webp
END:VEVENT
BEGIN:VEVENT
DTSTART;TZID=UTC:20250614T180000
DTEND;TZID=UTC:20250614T230000
DTSTAMP:20260424T052647
CREATED:20250611T003324Z
LAST-MODIFIED:20250611T003924Z
UID:1062-1749924000-1749942000@inspirewithangela.com
SUMMARY:Juneteenth Celebration & spoken word presentation 6pm
DESCRIPTION:I will be at the Fort Smith\, AR. Juneteenth celebration presenting a spoken word piece. \nSharing my poem Jubilee Dance at 6pm. Details are found here on this link. See you there! \n  \nJuneteenth is the oldest nationally/internationally celebrated commemoration of the ending of slavery in the United States. \nFrom its Galveston\, Texas origin in 1865\, the observance of June 19th as the African American Emancipation Day has spread across the United States and beyond. \nToday Juneteenth commemorates African American freedom and emphasizes education and achievement. It is a day\, a week\, and in some areas\, a month marked with celebrations\, guest speakers\, picnics and family gatherings. It is a time for reflection and rejoicing. It is a time for assessment\, self-improvement and for planning the future.
URL:https://inspirewithangela.com/event/juneteenth-celebration-spoken-word-presentation-6pm/
ATTACH;FMTTYPE=image/jpeg:https://inspirewithangela.com/wp-content/uploads/2025/06/Angela-Juneteenth-2024-FSM.jpg
END:VEVENT
BEGIN:VEVENT
DTSTART;VALUE=DATE:20250620
DTEND;VALUE=DATE:20250623
DTSTAMP:20260424T052647
CREATED:20250611T005216Z
LAST-MODIFIED:20250611T005505Z
UID:1065-1750377600-1750636799@inspirewithangela.com
SUMMARY:Speaking Event: B.E.E. 9th Expo/Juneteenth- Tulsa\, OK.
DESCRIPTION:Juneteenth is set in Tulsa\, OK. for 2025!!\n\nI will be speaking again this year with B.E.E. Get ready for an exciting weekend of networking\, shopping\, and community connections at the 9th Annual Black Economic Expo during Juneteenth weekend!\n\n\n Date: June 20-22\, 2025\n Location: Greenwood Cultural Center
URL:https://inspirewithangela.com/event/speaking-event-b-e-e-9th-expo-juneteenth-tulsa-ok/
LOCATION:Greenwood Cultural Center\, 322 N Greenwood Ave\, Tulsa\, OK\, 74120
ATTACH;FMTTYPE=image/jpeg:https://inspirewithangela.com/wp-content/uploads/2025/06/BEE-expo-juneteenth-2025-image.jpg
END:VEVENT
END:VCALENDAR