BEGIN:VCALENDAR
VERSION:2.0
PRODID:-//Inspire With Angela - ECPv6.15.20//NONSGML v1.0//EN
CALSCALE:GREGORIAN
METHOD:PUBLISH
X-WR-CALNAME:Inspire With Angela
X-ORIGINAL-URL:https://inspirewithangela.com
X-WR-CALDESC:Events for Inspire With Angela
REFRESH-INTERVAL;VALUE=DURATION:PT1H
X-Robots-Tag:noindex
X-PUBLISHED-TTL:PT1H
BEGIN:VTIMEZONE
TZID:UTC
BEGIN:STANDARD
TZOFFSETFROM:+0000
TZOFFSETTO:+0000
TZNAME:UTC
DTSTART:20240101T000000
END:STANDARD
END:VTIMEZONE
BEGIN:VEVENT
DTSTART;TZID=UTC:20250405T130000
DTEND;TZID=UTC:20250405T150000
DTSTAMP:20260424T083838
CREATED:20250320T151912Z
LAST-MODIFIED:20250325T161246Z
UID:1034-1743858000-1743865200@inspirewithangela.com
SUMMARY:NAACP Youth Council Graduation Appreciation ceremony- 1pm
DESCRIPTION:Its Graduation time!\n\nI will be sharing a few words with these great minds as \nthey begin to step out of one journey and into another world of possibilities.\n\nAll are welcome to attend!
URL:https://inspirewithangela.com/event/naacp-youth-council-graduation-appreciation-ceremony/
LOCATION:Baker Senior Citizens Center\, 3600 North Albert Pike\, Fort Smith\, AR\, 72904\, United States
ATTACH;FMTTYPE=image/jpeg:https://inspirewithangela.com/wp-content/uploads/2025/03/NAACP-YOUTH-COUNCIL-IMAGE.jpg
END:VEVENT
END:VCALENDAR