BEGIN:VCALENDAR
VERSION:2.0
PRODID:-//Inspire With Angela - ECPv6.15.20//NONSGML v1.0//EN
CALSCALE:GREGORIAN
METHOD:PUBLISH
X-ORIGINAL-URL:https://inspirewithangela.com
X-WR-CALDESC:Events for Inspire With Angela
REFRESH-INTERVAL;VALUE=DURATION:PT1H
X-Robots-Tag:noindex
X-PUBLISHED-TTL:PT1H
BEGIN:VTIMEZONE
TZID:UTC
BEGIN:STANDARD
TZOFFSETFROM:+0000
TZOFFSETTO:+0000
TZNAME:UTC
DTSTART:20220101T000000
END:STANDARD
END:VTIMEZONE
BEGIN:VEVENT
DTSTART;TZID=UTC:20230311T113000
DTEND;TZID=UTC:20230311T163000
DTSTAMP:20260425T194741
CREATED:20230224T194117Z
LAST-MODIFIED:20230313T142936Z
UID:735-1678534200-1678552200@inspirewithangela.com
SUMMARY:Scholarship and Career Fair-Panel discussion invitee
DESCRIPTION:Scholarship search\, FAFSA completion\, resume writing\, career exploration\, door prizes and panel discussion. \nSpecial guest: Ebony Mitchell Miss Arkansas 2022 \nI will be on the panel discussion talking business\, purpose\, and motivating youth to stay focused during this time of transition. \nHosted by Delta Sigma Theta Sorority\, Inc. and the NAACP
URL:https://inspirewithangela.com/event/scholarship-and-career-fair-panel-discussion-invitee/
LOCATION:Stephens Boys and Girls Club\, 3101 North 6th Street\, Fort Smith\, AR\, 72901
ATTACH;FMTTYPE=image/png:https://inspirewithangela.com/wp-content/uploads/2023/02/Green-Gold-Contemporary-Classy-Remote-Graduation-Poster-8.png
END:VEVENT
BEGIN:VEVENT
DTSTART;VALUE=DATE:20230327
DTEND;VALUE=DATE:20230331
DTSTAMP:20260425T194742
CREATED:20230313T142118Z
LAST-MODIFIED:20230330T151454Z
UID:740-1679875200-1680220799@inspirewithangela.com
SUMMARY:Black-Ownership movement bus tour
DESCRIPTION:Building wealth through business ownership: \n\nMonday\, March 27: Fayetteville\, AR\nTuesday\, March 28: Fayetteville & Springdale\, AR.\nWednesday\, March 29: Bentonville & Rogers\, AR.\nThursday\, March 30: Fort Smith\, AR.\nFriday\, March 31: Little Rock\, AR.\n\n 
URL:https://inspirewithangela.com/event/black-ownership-movement-bus-tour/
ATTACH;FMTTYPE=image/jpeg:https://inspirewithangela.com/wp-content/uploads/2023/03/IMG_7441.jpg
END:VEVENT
END:VCALENDAR