BEGIN:VCALENDAR
VERSION:2.0
PRODID:-//Inspire With Angela - ECPv6.15.20//NONSGML v1.0//EN
CALSCALE:GREGORIAN
METHOD:PUBLISH
X-WR-CALNAME:Inspire With Angela
X-ORIGINAL-URL:https://inspirewithangela.com
X-WR-CALDESC:Events for Inspire With Angela
REFRESH-INTERVAL;VALUE=DURATION:PT1H
X-Robots-Tag:noindex
X-PUBLISHED-TTL:PT1H
BEGIN:VTIMEZONE
TZID:UTC
BEGIN:STANDARD
TZOFFSETFROM:+0000
TZOFFSETTO:+0000
TZNAME:UTC
DTSTART:20200101T000000
END:STANDARD
END:VTIMEZONE
BEGIN:VEVENT
DTSTART;VALUE=DATE:20210118
DTEND;VALUE=DATE:20210119
DTSTAMP:20260425T102633
CREATED:20210118T233025Z
LAST-MODIFIED:20210118T233235Z
UID:241-1610928000-1611014399@inspirewithangela.com
SUMMARY:Book Release
DESCRIPTION:Don’t Color Me In Book Release
URL:https://inspirewithangela.com/event/book-release/
CATEGORIES:Book Release
END:VEVENT
END:VCALENDAR