BEGIN:VCALENDAR
VERSION:2.0
PRODID:-//Inspire With Angela - ECPv6.15.20//NONSGML v1.0//EN
CALSCALE:GREGORIAN
METHOD:PUBLISH
X-WR-CALNAME:Inspire With Angela
X-ORIGINAL-URL:https://inspirewithangela.com
X-WR-CALDESC:Events for Inspire With Angela
REFRESH-INTERVAL;VALUE=DURATION:PT1H
X-Robots-Tag:noindex
X-PUBLISHED-TTL:PT1H
BEGIN:VTIMEZONE
TZID:UTC
BEGIN:STANDARD
TZOFFSETFROM:+0000
TZOFFSETTO:+0000
TZNAME:UTC
DTSTART:20220101T000000
END:STANDARD
END:VTIMEZONE
BEGIN:VEVENT
DTSTART;TZID=UTC:20241201T160000
DTEND;TZID=UTC:20241201T190000
DTSTAMP:20260423T223701
CREATED:20241204T153439Z
LAST-MODIFIED:20241204T155318Z
UID:986-1733068800-1733079600@inspirewithangela.com
SUMMARY:Keynote speaker: South Africa 2025 Youth Project
DESCRIPTION:We are showing our young adults the\nimportance of professionalism and protocol in a dinner setting and\nrecognize them to be ambassadors to Shelby County as leaders\nin the community. I hope you will join us for an incredible event\nand dialogue on 30 November 2024 at 4:30 PM. \nTopic: Being an Ambassador
URL:https://inspirewithangela.com/event/keynote-speaker-south-africa-2025-project/
LOCATION:Event location: Memphis\, TN.\, 280 Cynthia Place\, Memphis\, TN\, 38126\, United States
ATTACH;FMTTYPE=image/jpeg:https://inspirewithangela.com/wp-content/uploads/2024/12/IMG_5439.jpg
END:VEVENT
BEGIN:VEVENT
DTSTART;VALUE=DATE:20241201
DTEND;VALUE=DATE:20250101
DTSTAMP:20260423T223701
CREATED:20241204T155400Z
LAST-MODIFIED:20241204T172302Z
UID:993-1733011200-1735689599@inspirewithangela.com
SUMMARY:December "All-in" Reading month
DESCRIPTION:As we set our hands to warm gloves and our feet to thicker socks\, we at Trendsetter Barbershop and Salon want to encourage our young readers to stop by and grab a few resources this December month as many will find themselves indoors\, out of the cold and finding a warm spot on grandma’s couch. \n  \nCome grab a book and get a few paper items that we think will be just what you need.  \nWe are always wishing our young minds to stay creative\, crafty\, and sharp! Reading is something that we know opens up the imagination and draws on the footsteps of creativity. We will see you at the book library! \n  \nKeep turning pages\, \nAngela Flake
URL:https://inspirewithangela.com/event/december-all-in-reading-month/
LOCATION:Trendsetter Barbershop & Salon\, 2039 North Green Acres Road\, Fayetteville\, 72703\, United States
ATTACH;FMTTYPE=image/jpeg:https://inspirewithangela.com/wp-content/uploads/2024/12/IMG_5473.jpg
END:VEVENT
BEGIN:VEVENT
DTSTART;TZID=UTC:20241109T090000
DTEND;TZID=UTC:20241109T110000
DTSTAMP:20260423T223701
CREATED:20241028T234817Z
LAST-MODIFIED:20241028T235115Z
UID:965-1731142800-1731150000@inspirewithangela.com
SUMMARY:C.O.F.F.E.E with Angela
DESCRIPTION:Sisters\, young ladies\, wise women! \nLet’s come Together. Sit. Chat. We have so much to share and lean into as we walk out our journeys. \n \n 
URL:https://inspirewithangela.com/event/c-o-f-f-e-e-with-angela/
LOCATION:Trendsetter Barbershop & Salon\, 2039 North Green Acres Road\, Fayetteville\, 72703\, United States
ATTACH;FMTTYPE=image/png:https://inspirewithangela.com/wp-content/uploads/2024/10/coffee-with-Angela-1.png
END:VEVENT
BEGIN:VEVENT
DTSTART;TZID=UTC:20241103T130000
DTEND;TZID=UTC:20241103T160000
DTSTAMP:20260423T223701
CREATED:20241028T234139Z
LAST-MODIFIED:20241114T154625Z
UID:961-1730638800-1730649600@inspirewithangela.com
SUMMARY:! I Placed 2nd! Mosaic Templars Cultural Center's annual "Say It Ain't Say's" Sweet Potato Pie Contest!
DESCRIPTION:Yes! I signed up for deliciousness! Come support a great event at a historic cultural site as we also celebrate a true activist from the Little Rock community with the Robert “Say” McIntosh Stop the Violence Toy Drive. \nIn the spirit of community and giving\, participants are encouraged to bring a toy. \nCome enjoy yourself\, sample pies\, learn\, support\, and create community connections. I am “baking” hard to make my granny proud! \n Update! I placed 2nd!! Yay—
URL:https://inspirewithangela.com/event/mosaic-templars-cultural-centers-annual-say-it-aint-says-sweet-potato-pie-contest/
LOCATION:Mosiac Templar Cultural Center\, 501 West 9th Street\, Little Rock\, AR\, 72201\, United States
ATTACH;FMTTYPE=image/png:https://inspirewithangela.com/wp-content/uploads/2024/10/Participant-graphic-1.png
END:VEVENT
BEGIN:VEVENT
DTSTART;VALUE=DATE:20241017
DTEND;VALUE=DATE:20241018
DTSTAMP:20260423T223701
CREATED:20241016T001558Z
LAST-MODIFIED:20241016T002029Z
UID:954-1729123200-1729209599@inspirewithangela.com
SUMMARY:Black Poetry Day- Oct 17-24
DESCRIPTION:Oh\, Yes! It is a literary art form! YOu CaN WritE It\, SpEaK It\, PerFOrM it. \nPoetry is picturEs painted with words. POetry gives you ideas~thoughts~EmotIons ALL in one! \n~ENJOY~
URL:https://inspirewithangela.com/event/black-poetry-day-oct-17-24/
ATTACH;FMTTYPE=image/png:https://inspirewithangela.com/wp-content/uploads/2024/10/Black-Poetry-Day-1200x628-1.png
END:VEVENT
BEGIN:VEVENT
DTSTART;TZID=UTC:20241012T180000
DTEND;TZID=UTC:20241012T230000
DTSTAMP:20260423T223701
CREATED:20241016T001110Z
LAST-MODIFIED:20241016T001110Z
UID:948-1728756000-1728774000@inspirewithangela.com
SUMMARY:Spoken word piece for Class of 92' meetup
DESCRIPTION:I was able to share memories\, friendship\, and fellowship with my graduating class of 92 this month. It was such a blessing to embrace our now as we all begin our journey on the other side of 50! What a journey it has been. Here is the poem that I shared on my social media. We didn’t have a microphone\, 🙂 so I chose to opt from sharing it that night. So thankful for our journey: \nWhat does a reunion look like?\nIt’s laughter while catching up-  \nIt’s forgetting you have kids but passing around pictures on your phone.  \nIts making room in your mind for memories that you couldn’t recall on your own. \nIt’s being here in this moment with others\, yet still knowing some have gone.  \nIt’s breathing and making it last. \nYou are here-  \nIts breathing in our fellowship\, making it last- \nmaking it good. \nFor our time has yielded many things in this lifespan. Some you held on to for these 32 years-some things you just couldn’t understand. \nWe realized how complex things can be. You have seen weary days and friends by your side.  \nHard places we could never explain yet the song “Lean on me” has its place —on display for us to see! \nWhitney Houston said “Learning to love yourself is the greatest love of all\,” we look around —50 years kind of seems so small. \nSo tonight\, we laugh and share memories of our past. \nPass around old pictures\, hug the necks of homework buddies\, football mates\, afterschool detentions friends\, telling your best friend if you don’t hurry you’ll  being late for your class… \nTomorrow is not promised so this I dare ask…cherish moments…make them last. \nWe are what we need. To love\, encouragement\, strength\, endurance\, and joy… we toast to the hope that gives us peace. \n  \n 
URL:https://inspirewithangela.com/event/spoken-word-piece-for-class-of-92-meetup/
LOCATION:Fort Smith\, 1400 South 6th Street\, Fort Smith\, AR\, 72701\, United States
ATTACH;FMTTYPE=image/jpeg:https://inspirewithangela.com/wp-content/uploads/2024/10/IMG_4725-rotated.jpg
END:VEVENT
BEGIN:VEVENT
DTSTART;TZID=UTC:20241006T080000
DTEND;TZID=UTC:20241006T120000
DTSTAMP:20260423T223701
CREATED:20241015T235229Z
LAST-MODIFIED:20241015T235229Z
UID:943-1728201600-1728216000@inspirewithangela.com
SUMMARY:MA9' Great Day in Memphis 1960's photo shoot session
DESCRIPTION:“Front of the Bus” photo session brought together Civil Rights leaders\, activist\, entertainers from 8 states to not only bring awareness to the need for community unity but to also share in this journey with encouragement\, change\, and a spirit of the 1960’s- We are stronger together. \nMeeting place for photos: Clayborn Temple & First Baptist Beale Street Church \nI had the honor to share a piece of this historic moment as the reenactment of late civil rights activist Rosa Parks. It was a very powerful day in the city of Memphis!
URL:https://inspirewithangela.com/event/ma9-great-day-in-memphis-1960s-photo-shoot-session/
LOCATION:HOMM/Museum/Memphis\, 1289 Madison Avenue\, Memphis\, TN\, 38104\, United States
ATTACH;FMTTYPE=image/jpeg:https://inspirewithangela.com/wp-content/uploads/2024/10/image000000-1.jpg
END:VEVENT
BEGIN:VEVENT
DTSTART;TZID=UTC:20241005T170000
DTEND;TZID=UTC:20241005T200000
DTSTAMP:20260423T223701
CREATED:20241015T233021Z
LAST-MODIFIED:20241016T002448Z
UID:939-1728147600-1728158400@inspirewithangela.com
SUMMARY:29th Annual Stone Awards Celebration- Spoken Word invitation
DESCRIPTION:Thank you House of Mtenzi Museum and Ma’9 Mustardseed Foundation for inviting me to share a spoken word poetry piece in honor of the 2024 29th Annual Stone Awards theme: The year of the Queens! It was my honor to share the stage with so many wonderful people who were acknowledged for their contributions in the community of Memphis and beyond. Thank you\, Cam! \n 
URL:https://inspirewithangela.com/event/29th-annual-stone-awards-celebration-spoken-word-invitation/
LOCATION:Bartlett Perf Art Center\, 3663 Appling Road\, Bartlett\, TN\, 38133\, United States
ATTACH;FMTTYPE=image/jpeg:https://inspirewithangela.com/wp-content/uploads/2024/10/IMG_4823.jpg
END:VEVENT
BEGIN:VEVENT
DTSTART;TZID=UTC:20240930T080000
DTEND;TZID=UTC:20240930T170000
DTSTAMP:20260423T223701
CREATED:20240823T183836Z
LAST-MODIFIED:20240823T183836Z
UID:919-1727683200-1727715600@inspirewithangela.com
SUMMARY:Back to School "Book BINGO"
DESCRIPTION:Will you stop by Trendsetter Barbershop and Salon to grab my Book BINGO card! As we get started back to school\, we want to encourage reading\, creative minds\, and having fun doing it! At the end of September\, we will have goodies and fun for all who participated. \n  \nPick up your card at 2039 North Green Acres Rd. Fayetteville\, AR. 72703
URL:https://inspirewithangela.com/event/back-to-school-book-bingo/
LOCATION:Trendsetter Barbershop & Salon\, 2039 North Green Acres Road\, Fayetteville\, 72703\, United States
ATTACH;FMTTYPE=image/png:https://inspirewithangela.com/wp-content/uploads/2024/08/Book-BINGO-2024JULY.png
END:VEVENT
BEGIN:VEVENT
DTSTART;TZID=UTC:20240921T170000
DTEND;TZID=UTC:20240921T170000
DTSTAMP:20260423T223701
CREATED:20241015T231645Z
LAST-MODIFIED:20241015T231645Z
UID:935-1726938000-1726938000@inspirewithangela.com
SUMMARY:M9Mustard Foundation JAS award 2024
DESCRIPTION:Presenting the 2024 JAS Junior Achievement Stone Award to Attorney Jalen Johnson\, Esq. in Selma\, AL. from the Ma’9Mustardseed Foundation. Congratulations Jalen! We are so proud of all your hard work and dedication. Thank you for representing what JAS is all about. \n 
URL:https://inspirewithangela.com/event/m9mustard-foundation-jas-award-2024/
ATTACH;FMTTYPE=image/jpeg:https://inspirewithangela.com/wp-content/uploads/2024/10/IMG_4822.jpg
END:VEVENT
BEGIN:VEVENT
DTSTART;TZID=UTC:20240810T080000
DTEND;TZID=UTC:20240810T150000
DTSTAMP:20260423T223701
CREATED:20240823T182928Z
LAST-MODIFIED:20240823T184451Z
UID:915-1723276800-1723302000@inspirewithangela.com
SUMMARY:Back to School Block Party
DESCRIPTION:Food\, music\, haircuts\, free backpacks\, and some great community partnerships. Come out and join us. I will be there to chat about the book library we have at Trendsetter Barbershop and Salon. \n 
URL:https://inspirewithangela.com/event/back-to-school-block-party/
LOCATION:Trendsetter Barbershop & Salon\, 2039 North Green Acres Road\, Fayetteville\, 72703\, United States
ATTACH;FMTTYPE=image/jpeg:https://inspirewithangela.com/wp-content/uploads/2024/08/3FE4E326-.jpg
END:VEVENT
BEGIN:VEVENT
DTSTART;TZID=UTC:20240630T170000
DTEND;TZID=UTC:20240630T210000
DTSTAMP:20260423T223701
CREATED:20240626T142853Z
LAST-MODIFIED:20240626T142853Z
UID:906-1719766800-1719781200@inspirewithangela.com
SUMMARY:Poetry Reading- "The Black National Anthem" rendition
DESCRIPTION:It’s the 12th Annual Mtenzi awards “All-White” Gala. I will be reading a poem on Sunday\, June 30\, 2024. \n2-day weekend celebration! We will see you there!\n 
URL:https://inspirewithangela.com/event/poetry-reading-the-black-national-anthem-rendition/
LOCATION:K3 Studios\, 1130 South 3rd Street\, Memphis\, TN\, 38106\, United States
ATTACH;FMTTYPE=image/jpeg:https://inspirewithangela.com/wp-content/uploads/2024/06/Mtenzi-event-flyer-Cammys-2024.jpg
END:VEVENT
BEGIN:VEVENT
DTSTART;VALUE=DATE:20240615
DTEND;VALUE=DATE:20240617
DTSTAMP:20260423T223701
CREATED:20240626T141758Z
LAST-MODIFIED:20240626T141758Z
UID:903-1718409600-1718582399@inspirewithangela.com
SUMMARY:Juneteenth Celebration/ Remembrance- Tulsa\, OK. 2024
DESCRIPTION:Memphis\, Oklahoma\, & Arkansas came together to embark on year 3 with embracing community\, reflections\, history\, and support. The Greenwood District in Tulsa\, OK. gives a voice to the many layers of our history. I was so honored to be back for a third consecutive year with family and friends…and leave changed.
URL:https://inspirewithangela.com/event/juneteenth-celebration-remembrance-tulsa-ok-2024/
ATTACH;FMTTYPE=image/jpeg:https://inspirewithangela.com/wp-content/uploads/2024/06/Juneteenth-Tulsa-2024.jpg
END:VEVENT
BEGIN:VEVENT
DTSTART;VALUE=DATE:20240614
DTEND;VALUE=DATE:20240616
DTSTAMP:20260423T223701
CREATED:20240626T140355Z
LAST-MODIFIED:20240626T141048Z
UID:899-1718323200-1718495999@inspirewithangela.com
SUMMARY:Poetry Reading- Juneteenth Celebration
DESCRIPTION:Enjoying loving on my Fort Smith family with a poem to help celebrate our Juneteenth weekend 2024 in the River Valley. \nSaturday\, June 15 @7pm. \nTitle of Poem: 20 scores to 2024 We are Juneteenth\, claim your Jubilee!
URL:https://inspirewithangela.com/event/poetry-reading-juneteenth-celebration/
LOCATION:Riverfront Park FSM\, 121 Riverfront Drive\, Fort Smith\, AR\, 72901\, United States
ATTACH;FMTTYPE=image/jpeg:https://inspirewithangela.com/wp-content/uploads/2024/06/Juneteenth-2024.jpg
END:VEVENT
BEGIN:VEVENT
DTSTART;VALUE=DATE:20240401
DTEND;VALUE=DATE:20240501
DTSTAMP:20260423T223701
CREATED:20240315T001416Z
LAST-MODIFIED:20240315T002530Z
UID:891-1711929600-1714521599@inspirewithangela.com
SUMMARY:Poetry Month in April
DESCRIPTION:We will have plenty to do in our book library located at Trendsetter Barbershop and Salon here in NWA for poetry month. \nMake sure you follow us on FB to keep in the know about our fun ways to connect all month long! See you there!!!
URL:https://inspirewithangela.com/event/poetry-month-in-april/
LOCATION:Trendsetter Barbershop & Salon\, 2039 North Green Acres Road\, Fayetteville\, 72703\, United States
ATTACH;FMTTYPE=image/png:https://inspirewithangela.com/wp-content/uploads/2024/03/Poetry-Month-puzzles-2024-1.png
END:VEVENT
BEGIN:VEVENT
DTSTART;TZID=UTC:20240227T090000
DTEND;TZID=UTC:20240227T100000
DTSTAMP:20260423T223701
CREATED:20240314T221106Z
LAST-MODIFIED:20240314T221106Z
UID:888-1709024400-1709028000@inspirewithangela.com
SUMMARY:Cultural Expo- Author event
DESCRIPTION:I and another book author Darnesha Airhart enjoyed this time. Thank you\, Tigers! \nIt was a morning filled with walking the halls of my former elementary school thinking back to when I was 10yrs old. I got to hang out in three classes full of 4th and 5th graders who really taught me a thing…or two! They were funny\, intelligent\, engaging\, vocal\, talented\, (I did a duo with a few rap sessions) and so much more. Coming back home meant everything to me.
URL:https://inspirewithangela.com/event/cultural-expo-author-event/
ATTACH;FMTTYPE=image/jpeg:https://inspirewithangela.com/wp-content/uploads/2024/03/IMG_2504.jpg
END:VEVENT
BEGIN:VEVENT
DTSTART;VALUE=DATE:20240201
DTEND;VALUE=DATE:20240301
DTSTAMP:20260423T223701
CREATED:20240203T232040Z
LAST-MODIFIED:20240203T232809Z
UID:878-1706745600-1709251199@inspirewithangela.com
SUMMARY:Black History Month card experience
DESCRIPTION:Join us all month long as we embark on creating new experiences. Black history is all around us…let’s do it together.
URL:https://inspirewithangela.com/event/black-history-card-experience/
ATTACH;FMTTYPE=application/pdf:https://inspirewithangela.com/wp-content/uploads/2024/02/CANVA_proof_II-AY0iTIhaXWVW.pdf
END:VEVENT
BEGIN:VEVENT
DTSTART;VALUE=DATE:20240201
DTEND;VALUE=DATE:20240301
DTSTAMP:20260423T223701
CREATED:20240108T183450Z
LAST-MODIFIED:20240131T192538Z
UID:871-1706745600-1709251199@inspirewithangela.com
SUMMARY:Youth Night: Vision Board
DESCRIPTION:! UPDATE: We are having a drop-in for this the whole month of February ! \nCome see us and pick out items to make your own vision board! And of course\, nibble on some goodies 🙂
URL:https://inspirewithangela.com/event/youth-night-vision-board/
LOCATION:Trendsetter Barbershop & Salon\, 2039 North Green Acres Road\, Fayetteville\, 72703\, United States
ATTACH;FMTTYPE=image/jpeg:https://inspirewithangela.com/wp-content/uploads/2024/01/Beige-Yellow-Handdrawn-Black-History-Month-Square-Instagram-Post.jpg
END:VEVENT
BEGIN:VEVENT
DTSTART;TZID=UTC:20231212T180000
DTEND;TZID=UTC:20231212T190000
DTSTAMP:20260423T223701
CREATED:20231212T005233Z
LAST-MODIFIED:20231212T005233Z
UID:864-1702404000-1702407600@inspirewithangela.com
SUMMARY:Reading Night
DESCRIPTION:We are at it again! Come get your reading on and grab some homemade cookies and some hot chocolate! See you there-
URL:https://inspirewithangela.com/event/reading-night/
LOCATION:Trendsetter Barbershop & Salon\, 2039 North Green Acres Road\, Fayetteville\, 72703\, United States
ATTACH;FMTTYPE=image/png:https://inspirewithangela.com/wp-content/uploads/2023/12/popcorn-popsicles.png
END:VEVENT
BEGIN:VEVENT
DTSTART;TZID=UTC:20231017T180000
DTEND;TZID=UTC:20231017T190000
DTSTAMP:20260423T223701
CREATED:20231024T001053Z
LAST-MODIFIED:20231024T001053Z
UID:856-1697565600-1697569200@inspirewithangela.com
SUMMARY:Poetry and Popcorn Night
DESCRIPTION:Its Black Poetry Day here in my world! \nCome hang out with us from 6-7pm so we can read\, talk\, and eat popcorn!
URL:https://inspirewithangela.com/event/poetry-and-popcorn-night/
LOCATION:Trendsetter Barbershop & Salon\, 2039 North Green Acres Road\, Fayetteville\, 72703\, United States
ATTACH;FMTTYPE=image/jpeg:https://inspirewithangela.com/wp-content/uploads/2023/10/popcorn-popsicles-1.jpg
END:VEVENT
BEGIN:VEVENT
DTSTART;TZID=UTC:20231014T150000
DTEND;TZID=UTC:20231014T203000
DTSTAMP:20260423T223701
CREATED:20231024T002634Z
LAST-MODIFIED:20231024T002634Z
UID:860-1697295600-1697315400@inspirewithangela.com
SUMMARY:28th Annual Stone Awards- HOMM
DESCRIPTION:It was my honor to volunteer and be connected to such a rich event with so many leaders from various communities. If you have not seen an actual “stone award\,” you will be amazed\, and to understand the calling that sits behind each piece of work that a leader carries off stage with them. It was such an honor to celebrate this momentous occasion.
URL:https://inspirewithangela.com/event/28th-annual-stone-awards-homm/
ATTACH;FMTTYPE=image/jpeg:https://inspirewithangela.com/wp-content/uploads/2023/10/IMG_1443.jpg
END:VEVENT
BEGIN:VEVENT
DTSTART;TZID=UTC:20230930T100000
DTEND;TZID=UTC:20230930T170000
DTSTAMP:20260423T223701
CREATED:20231003T163740Z
LAST-MODIFIED:20231003T164423Z
UID:844-1696068000-1696093200@inspirewithangela.com
SUMMARY:Little Rock Soul VegFest 2023
DESCRIPTION:Enjoyed hanging out with this event. I just wanted to connect\, enjoy great information about healthy eating\, and share inspiration with my t-shirt designs. Mission accomplished!! My highlight: Meeting Dr. Milton Mills- documentary\, “What the Health?”
URL:https://inspirewithangela.com/event/little-rock-soul-vegfest-2023/
LOCATION:Little Rock Vegfest\, 600 Main Street\, Little Rock\, 72114\, United States
CATEGORIES:Community Connection
ATTACH;FMTTYPE=image/jpeg:https://inspirewithangela.com/wp-content/uploads/2023/10/IMG_1541.jpg
END:VEVENT
BEGIN:VEVENT
DTSTART;TZID=UTC:20230919T180000
DTEND;TZID=UTC:20230919T190000
DTSTAMP:20260423T223701
CREATED:20231003T161828Z
LAST-MODIFIED:20231003T161828Z
UID:840-1695146400-1695150000@inspirewithangela.com
SUMMARY:Popcorn and Popsicles
DESCRIPTION:We love a good bag of popcorn and who could resist a sweet popsicle? Add a book and we got it all covered. \nPlease join us for our youth nights as we hang out\, share\, and enjoy a great read! \nFeel free to bring your own book or pick up one from our book library. See you soon!
URL:https://inspirewithangela.com/event/popcorn-and-popsicles/
LOCATION:Trendsetter Barbershop & Salon\, 2039 North Green Acres Road\, Fayetteville\, 72703\, United States
CATEGORIES:Community Connection
ATTACH;FMTTYPE=image/jpeg:https://inspirewithangela.com/wp-content/uploads/2023/10/popcorn-popsicles.jpg
END:VEVENT
BEGIN:VEVENT
DTSTART;VALUE=DATE:20230617
DTEND;VALUE=DATE:20230618
DTSTAMP:20260423T223701
CREATED:20230717T215338Z
LAST-MODIFIED:20230717T215516Z
UID:829-1686960000-1687046399@inspirewithangela.com
SUMMARY:Juneteenth 2023 Tulsa\, Ok.
DESCRIPTION:C6B5C41B-65D8-4A1D-8EC9-E7BDE77FD13C
URL:https://inspirewithangela.com/event/juneteenth-2023-tulsa-ok/
ATTACH;FMTTYPE=image/jpeg:https://inspirewithangela.com/wp-content/uploads/2023/06/Angela-photo-BEE-juneteenth.jpg
END:VEVENT
BEGIN:VEVENT
DTSTART;TZID=UTC:20230616T170000
DTEND;TZID=UTC:20230616T173000
DTSTAMP:20260423T223701
CREATED:20230614T184411Z
LAST-MODIFIED:20230619T190821Z
UID:805-1686934800-1686936600@inspirewithangela.com
SUMMARY:B.E.E. Black Economic Expo Juneteenth event
DESCRIPTION:  \nWill you join me at Tulsa\, Ok. for their annual Juneteenth celebration! \nI look forward to a night of community connections at the Greenwood Cultural Center as we kick off the weekend. I will be speaking on the importance of \nwalking out a journey of purpose as an entrepreneur\, \nwhile being patient\, embracing self\, and rocking your confidence as you navigate the many roads of your business. \nUPDATE: Did I see you? We had a wonderful time. Thanks everyone at the B.E.E.! \n 
URL:https://inspirewithangela.com/event/b-e-e-black-economic-expo-juneteenth-event/
LOCATION:Greenwood Cultural Center\, 322 N Greenwood Ave\, Tulsa\, OK\, 74120
ATTACH;FMTTYPE=image/jpeg:https://inspirewithangela.com/wp-content/uploads/2023/06/B.E.E-juneteenth-photo.jpg
END:VEVENT
BEGIN:VEVENT
DTSTART;VALUE=DATE:20230601
DTEND;VALUE=DATE:20230802
DTSTAMP:20260423T223701
CREATED:20230627T151821Z
LAST-MODIFIED:20230726T161219Z
UID:814-1685577600-1690934399@inspirewithangela.com
SUMMARY:Summer Reading!
DESCRIPTION:Will you make sure you are getting that reading in this summer? I sure hope so! \nI have a book titled: For Black Writers… by Aliona Gibson. Its a book on how to write\, publish and market your first book. \nI also thought it would be good to read my own books this summer. Yes\, honey! I am at a place of wanting more from myself with writing and needing to get a clear understanding on which direction I should go. Sometimes embracing what you have can be just what you need to stir up some good ol’ motivation. Well…that’s my thought on it at least! 🙂 \nSo\, stay in a book and keep your mind and inspiration on what matters: Your journey of Purpose! \nA \n \n 
URL:https://inspirewithangela.com/event/summer-reading/
ATTACH;FMTTYPE=image/jpeg:https://inspirewithangela.com/wp-content/uploads/2023/06/IMG_0594.jpg
END:VEVENT
BEGIN:VEVENT
DTSTART;TZID=UTC:20230513T073000
DTEND;TZID=UTC:20230513T170000
DTSTAMP:20260423T223701
CREATED:20230515T174605Z
LAST-MODIFIED:20230515T175607Z
UID:775-1683963000-1683997200@inspirewithangela.com
SUMMARY:Book Reading/Inaugural Community Festival
DESCRIPTION:As part of my effort to continue my “Community Connections\,” I enjoyed my book talk with a few of my writings at the Historic St. James Missionary Baptist Church event. Did I see you? I gave away some of my books\, bookmarkers\, pencils\, and lots of smiles! Thank you to the staff and Mrs. Washington!
URL:https://inspirewithangela.com/event/book-reading-inaugural-community-festival/
LOCATION:Church\, 764 West North Street\, Fayetteville\, AR\, 72701\, United States
ATTACH;FMTTYPE=image/jpeg:https://inspirewithangela.com/wp-content/uploads/2023/05/Community-festival-SJMBC.jpg
END:VEVENT
BEGIN:VEVENT
DTSTART;TZID=UTC:20230501T080000
DTEND;TZID=UTC:20230531T170000
DTSTAMP:20260423T223701
CREATED:20230503T153512Z
LAST-MODIFIED:20230519T195220Z
UID:760-1682928000-1685552400@inspirewithangela.com
SUMMARY:"May I" book giveaway!
DESCRIPTION:This is my 4th annual book giveaway. I call it my “May I” book giveaway because…well first its in May and second\, I am cordially asking you to allow me to set you up before the summer months with encouraging reading. \nThe “May I\,” so to speak is my courtesy plea to get you excited about books as we share some amazing reads for your summer starters. And their free!! \n 
URL:https://inspirewithangela.com/event/may-i-book-giveaway/
ATTACH;FMTTYPE=image/jpeg:https://inspirewithangela.com/wp-content/uploads/2023/05/May-I-book-giveaway-photo.jpg
END:VEVENT
BEGIN:VEVENT
DTSTART;TZID=UTC:20230424T160000
DTEND;TZID=UTC:20230424T190000
DTSTAMP:20260423T223701
CREATED:20230503T152502Z
LAST-MODIFIED:20230503T155554Z
UID:754-1682352000-1682362800@inspirewithangela.com
SUMMARY:Youth Night/Poetry Night
DESCRIPTION:Did you make it to our event on April 24th? I sure hope you did. \nTrendsetter Barbershop and Salon has some great books for your youth to read. Stop by and see Nick! \nStay plugged-in to my FB page to see what’s happening on our next community connection.
URL:https://inspirewithangela.com/event/youth-night-poetry-night/
LOCATION:Trendsetter Barbershop & Salon\, 2039 North Green Acres Road\, Fayetteville\, 72703\, United States
ATTACH;FMTTYPE=image/jpeg:https://inspirewithangela.com/wp-content/uploads/2023/05/IMG_0112-Copy-scaled.jpg
END:VEVENT
BEGIN:VEVENT
DTSTART;VALUE=DATE:20230401
DTEND;VALUE=DATE:20230501
DTSTAMP:20260423T223701
CREATED:20230330T174545Z
LAST-MODIFIED:20230330T174631Z
UID:749-1680307200-1682899199@inspirewithangela.com
SUMMARY:Celebrating Poetry Month
DESCRIPTION:  \nOne thing that I love is writing: plays\, jingles\, songs\, music\, books…and poetry.  \nI hope you will find yourself immersed in some form of poetry this month.  \n  \nPlease visit my FB page to see what all will be doing!
URL:https://inspirewithangela.com/event/celebrating-poetry-month/
ATTACH;FMTTYPE=image/jpeg:https://inspirewithangela.com/wp-content/uploads/2023/03/Poerty-month-image.jpg
END:VEVENT
END:VCALENDAR