BEGIN:VCALENDAR
VERSION:2.0
PRODID:-//Inspire With Angela - ECPv6.15.20//NONSGML v1.0//EN
CALSCALE:GREGORIAN
METHOD:PUBLISH
X-ORIGINAL-URL:https://inspirewithangela.com
X-WR-CALDESC:Events for Inspire With Angela
REFRESH-INTERVAL;VALUE=DURATION:PT1H
X-Robots-Tag:noindex
X-PUBLISHED-TTL:PT1H
BEGIN:VTIMEZONE
TZID:UTC
BEGIN:STANDARD
TZOFFSETFROM:+0000
TZOFFSETTO:+0000
TZNAME:UTC
DTSTART:20250101T000000
END:STANDARD
END:VTIMEZONE
BEGIN:VEVENT
DTSTART;TZID=UTC:20260606T100000
DTEND;TZID=UTC:20260606T143000
DTSTAMP:20260423T233431
CREATED:20260408T202406Z
LAST-MODIFIED:20260413T213933Z
UID:1141-1780740000-1780756200@inspirewithangela.com
SUMMARY:Poetry and Pictogram Workshop
DESCRIPTION:I am so excited to bring my mini-workshop idea to life thanks to a grant from my community partners Community Literacies Collaboratory. \nThis event promises one thing: Opportunity! Where we get to encourage our young minds the opportunity to express themselves\, the opportunity to have fun learning\, and an opportunity to enhance literacy skills while pairing it with some amazing tools. We will incorporate Poetry and Pictograms to let our students dive into the world of imagination. \nPlease use the flyer which has a QR code to **register\, or you can do so here. \nYou will drop your child off starting at 9am to eat breakfast\, with the workshop starting at 10am. We ask that you come back at 2:15pm for pickup and to see some amazing posters that the youth have created…all without words\, but with images that showcases their creativity and unspoken voice! It’s going to be great! \n**space is limited so please register to help us prepare. \ncontact phone number is on the flyer if you need more information! \nWe will see you soon! \nAG
URL:https://inspirewithangela.com/event/poetry-and-pictogram-workshop/
LOCATION:McGill Center\, 521 North 6th Street\, Fort Smith\, 72901\, United States
ATTACH;FMTTYPE=image/png:https://inspirewithangela.com/wp-content/uploads/2026/04/Poetry-and-Pictogram-flyer-June-2026-5.png
END:VEVENT
END:VCALENDAR