BEGIN:VCALENDAR
VERSION:2.0
PRODID:-//Inspire With Angela - ECPv6.15.20//NONSGML v1.0//EN
CALSCALE:GREGORIAN
METHOD:PUBLISH
X-ORIGINAL-URL:https://inspirewithangela.com
X-WR-CALDESC:Events for Inspire With Angela
REFRESH-INTERVAL;VALUE=DURATION:PT1H
X-Robots-Tag:noindex
X-PUBLISHED-TTL:PT1H
BEGIN:VTIMEZONE
TZID:UTC
BEGIN:STANDARD
TZOFFSETFROM:+0000
TZOFFSETTO:+0000
TZNAME:UTC
DTSTART:20240101T000000
END:STANDARD
END:VTIMEZONE
BEGIN:VEVENT
DTSTART;VALUE=DATE:20250521
DTEND;VALUE=DATE:20250922
DTSTAMP:20260424T083200
CREATED:20250521T235026Z
LAST-MODIFIED:20250521T235026Z
UID:1058-1747785600-1758499199@inspirewithangela.com
SUMMARY:Sandbox- The joy of writing with Community Literacies Collaboration
DESCRIPTION:The Sandbox invites community literacies workers to write thought provoking\, accessible\, brief policy memos\, reports\, or essays on a timely issue within literacy learning and practice. \nPlease click the link below or here\, to enjoy my literacy narrative autobiography writing and other great writers who share their passions to inspire\, encourage\, and impact the world we live in. \n \nThank you CLC for our partnership to embrace literacy and its many facets. 
URL:https://inspirewithangela.com/event/sandbox-the-joy-of-writing-with-community-literacies-collaboration/
ATTACH;FMTTYPE=image/webp:https://inspirewithangela.com/wp-content/uploads/2025/05/Circle-Sticker-Book-Circle-2.webp
END:VEVENT
BEGIN:VEVENT
DTSTART;VALUE=DATE:20250620
DTEND;VALUE=DATE:20250623
DTSTAMP:20260424T083200
CREATED:20250611T005216Z
LAST-MODIFIED:20250611T005505Z
UID:1065-1750377600-1750636799@inspirewithangela.com
SUMMARY:Speaking Event: B.E.E. 9th Expo/Juneteenth- Tulsa\, OK.
DESCRIPTION:Juneteenth is set in Tulsa\, OK. for 2025!!\n\nI will be speaking again this year with B.E.E. Get ready for an exciting weekend of networking\, shopping\, and community connections at the 9th Annual Black Economic Expo during Juneteenth weekend!\n\n\n Date: June 20-22\, 2025\n Location: Greenwood Cultural Center
URL:https://inspirewithangela.com/event/speaking-event-b-e-e-9th-expo-juneteenth-tulsa-ok/
LOCATION:Greenwood Cultural Center\, 322 N Greenwood Ave\, Tulsa\, OK\, 74120
ATTACH;FMTTYPE=image/jpeg:https://inspirewithangela.com/wp-content/uploads/2025/06/BEE-expo-juneteenth-2025-image.jpg
END:VEVENT
BEGIN:VEVENT
DTSTART;TZID=UTC:20250804T080000
DTEND;TZID=UTC:20250804T170000
DTSTAMP:20260424T083200
CREATED:20250804T165143Z
LAST-MODIFIED:20250805T001254Z
UID:1076-1754294400-1754326800@inspirewithangela.com
SUMMARY:August Newsletter/Reading Ambassadors
DESCRIPTION:I am so excited to start our newsletter for the reading ambassador program we have. We send out a newsletter twice a year and include with it a book for our ambassadors. I truly believe that at the heart of learning is words! And they really do matter to a young mind. I sure thought so at that age. If interested in joining this great reading exploration with your young reader just reach out to me and we can get you all set up.  \nThank you for participating and believing that it’s “the small things we do that make a BIG difference”!
URL:https://inspirewithangela.com/event/august-newsletter-reading-ambassadors/
ATTACH;FMTTYPE=image/jpeg:https://inspirewithangela.com/wp-content/uploads/2023/06/IMG_0594.jpg
END:VEVENT
BEGIN:VEVENT
DTSTART;TZID=UTC:20250809T140000
DTEND;TZID=UTC:20250809T150000
DTSTAMP:20260424T083200
CREATED:20250804T164156Z
LAST-MODIFIED:20250804T164156Z
UID:1073-1754748000-1754751600@inspirewithangela.com
SUMMARY:Book Reading in Rogers\, AR.
DESCRIPTION:Join us for a storytime with award-winning local author Angela Glass as she reads her book\, “Are My Glasses Too Big?” \nAngela Glass is a poet\, award-winning writer\, and author of her women’s book Words Matter.  A motivational speaker and advocate for youth literacy\, Angela has written books that focus on embracing your purpose\, along with children’s books that seeks to spark critical thinking in youth to celebrate creativity\, while encouraging confidence as they explore the many styles of writing.
URL:https://inspirewithangela.com/event/book-reading-in-rogers-ar/
LOCATION:Rogers Public Library\, 711 S Dixieland Road\, Rogers\, AR\, 72758\, United States
ATTACH;FMTTYPE=image/jpeg:https://inspirewithangela.com/wp-content/uploads/2024/03/IMG_2504.jpg
END:VEVENT
BEGIN:VEVENT
DTSTART;TZID=UTC:20251001T080000
DTEND;TZID=UTC:20251231T170000
DTSTAMP:20260424T083200
CREATED:20251023T150516Z
LAST-MODIFIED:20251023T150516Z
UID:1085-1759305600-1767200400@inspirewithangela.com
SUMMARY:3 on 3 Fast-INspire-Encourage
DESCRIPTION:Ladies\, join me on my Facebook page for this wonderful time as we do some simple things that can create powerful changes as we look into our 2026 year. \n\nWe are fasting 3x a month starting this month~ October ~ until December 2025.\nYou choose how you want to fast. I have given some ideas and shared a few things I am doing.\nWe make a commitment to see beyond what our eyes can often miss when it comes to Purpose\, Vision\, and embracing US.\nJOIN ME!!
URL:https://inspirewithangela.com/event/3-on-3-fast-inspire-encourage/
ATTACH;FMTTYPE=application/pdf:https://inspirewithangela.com/wp-content/uploads/2025/10/Fasting-challenge-1.pdf
END:VEVENT
BEGIN:VEVENT
DTSTART;VALUE=DATE:20251017
DTEND;VALUE=DATE:20251018
DTSTAMP:20260424T083200
CREATED:20251023T153150Z
LAST-MODIFIED:20251023T163730Z
UID:1089-1760659200-1760745599@inspirewithangela.com
SUMMARY:I Love Poetry- Black Poetry Day 10/17
DESCRIPTION:Enjoy a personal piece of mine\, written in 2023 after reading some of the book: The Body Keeps the Score-Brain\, Mind\, and Body in the Healing of Trauma by Bessel van der Kolk M.D.\nRepeat after Me\nYo’ child taking pills\, \nUnderlying they don’t know what’s real. \nThrough your hurt and pain\, \nVery seldom it’s in our gain. \nStruggling\, struggling to survive. \nGod told us about Mother Earth. \nCarry her\, treasure her worth. \nOur babies hurt\, confused and diseased. \nThe system has the answer: \nMedicate their minds\, so we can be pleased. \nWhy were we taught Not. To. Cry. \nTo close the door when our voices got too high. \nI am the ceiling you are the floor. \nWe both see the window of our pain… \nA 5 yr. old on prescription drugs- help us as we deal with our shame. \nCan you hear the fetters on their little feet\, still needing milk Paul\, \nThe world forces them meat. \nHow do we change a system that know not our name. \nHow much more shame. \nBefore you were born\, God already proclaimed. \nThat baby over yonder\, “she was fine with you lord.” \n“She was healthy\, he was strong.” \nCan we please turn back to you? \nThat’s where we belong. \nWhy our black babies get put on drugs? \nWhy our black kids can’t thrive? \nHow long will our communities burn from within\, \nDoes our blackness make us turn a blind eye? \nAm I too Black to see? \nIs my blackness out of control? \nWill I assist in my own injection to keep me numb? \nWhen God says\, “son\, daughter you come from \nmy treasure\, riches untold.” \nI walk and the ground shakes. \nI speak and heaven quakes. \nI yield and God makes the way. \nI plant and their grows my faith. \nWe must reconcile our homes to our streets\, \nBuild purpose from the pain we weep. \nSaturate our youth with armor their minds can reap. \n  \nThis. Is. A. Promise. Through. Our. God. We. Keep. \nHow do we change a system that know not our name? \nWho created the blacksmith who fans the coals into flame? \nYou are not just clay\, \nA myriad from the dirt- \nSand of the sea\, \nGod calls your hands to be of good work. \nWhat shall rise against the calamity of our time? \nYou\, You\, for inside of purpose lies strength we must recognize. \nI will speak and you will answer\, \nI will call- you shall awake. \nWe will teach our babies truth? \nOur ancestors still hold our hands “Make No Mistake.” \nOur Power Is In Our Healing \nOur answer comes through our prayer. \nAs we support another\, \nThis is where your armor gets repaired. \nLet your voice echo in the wind\, \nLet your purpose call you to the end. \nLet your vision keep you through the night\, \nLet your soul make a pathway to the light. \nLet your mind steady the strength of your hands\, \nLet your courage remain when fear takes its stand. \nLet your truth lead you down the road\, \nLet your tears remind you who is in control. \nLet your burdens yield to your faith\, \nLet Joy be the backdrop when doubt wants to win the race. \nLet purpose forever stand\, \nLet God remind you…He Always… Has A Plan.
URL:https://inspirewithangela.com/event/i-love-poetry-black-poetry-day-10-17/
ATTACH;FMTTYPE=image/png:https://inspirewithangela.com/wp-content/uploads/2025/10/Poetry-Day.png
END:VEVENT
BEGIN:VEVENT
DTSTART;VALUE=DATE:20251022
DTEND;VALUE=DATE:20251023
DTSTAMP:20260424T083200
CREATED:20251023T164908Z
LAST-MODIFIED:20251023T164908Z
UID:1094-1761091200-1761177599@inspirewithangela.com
SUMMARY:K.I.D.S. Community Garden
DESCRIPTION:I am excited to partner with Fruit of the Vine as we connect to get our garden ready for picking and learning! Follow along on my Facebook page for any updates! We are getting ready to plant for our cold season…can you think of a few items that might be good to see sprouting from our garden?
URL:https://inspirewithangela.com/event/k-i-d-s-community-garden/
ATTACH;FMTTYPE=image/jpeg:https://inspirewithangela.com/wp-content/uploads/2025/10/KIDS-GARDEN-FLYER.jpg
END:VEVENT
BEGIN:VEVENT
DTSTART;TZID=UTC:20251213T140000
DTEND;TZID=UTC:20251213T170000
DTSTAMP:20260424T083200
CREATED:20260106T155502Z
LAST-MODIFIED:20260106T155502Z
UID:1104-1765634400-1765645200@inspirewithangela.com
SUMMARY:Fort Smith Parade- book giveaway
DESCRIPTION:We gave out over 200 free books as we walked the Fort Smith Parade today at 3pm! Can I say thank you for our volunteers from NAACP youth council\, friends\, and my girls who were ready to step up and help!
URL:https://inspirewithangela.com/event/fort-smith-parade-book-giveaway/
ATTACH;FMTTYPE=image/jpeg:https://inspirewithangela.com/wp-content/uploads/2026/01/Parade-pic-2025.jpg
END:VEVENT
BEGIN:VEVENT
DTSTART;VALUE=DATE:20260101
DTEND;VALUE=DATE:20260102
DTSTAMP:20260424T083200
CREATED:20260106T160219Z
LAST-MODIFIED:20260106T160255Z
UID:1108-1767225600-1767311999@inspirewithangela.com
SUMMARY:Book Library is ready for 2026!
DESCRIPTION:As we get ready to turn another year older\, we at Story Sparks book library\, nestled inside of Trendsetter Barber Shop and Salon say\, thank you. Thank you for allowing us to serve you. We look forward to connecting with more ways to further our mission of literacy in our community and growing from each seed we plant in our young youth.\nThank you and we hope to see you soon!\nRemember\, our books are always FREE!
URL:https://inspirewithangela.com/event/book-library-still-wants-your-books/
LOCATION:Trendsetter Barbershop & Salon\, 2039 North Green Acres Road\, Fayetteville\, 72703\, United States
ATTACH;FMTTYPE=image/jpeg:https://inspirewithangela.com/wp-content/uploads/2026/01/Book-library-photo.jpg
END:VEVENT
BEGIN:VEVENT
DTSTART;VALUE=DATE:20260101
DTEND;VALUE=DATE:20260201
DTSTAMP:20260424T083200
CREATED:20260106T161845Z
LAST-MODIFIED:20260106T161845Z
UID:1112-1767225600-1769903999@inspirewithangela.com
SUMMARY:Stop by for FREE MLK activity sheets
DESCRIPTION:We have some activity sheets for your youth to grab-and-go with at the library this month. As we get closer to MLK day and remember the significance of a pivotal moment for Civil Rights\, we encourage you to stop by and use these activity sheets as conversation pieces for your youth as you share important teachings of civil rights and the impact they continue to have in our Black community and beyond. \nPlace: Trendsetter Barber Shop and Salon \nLocation: 2039 North Green Acres Road\, Fayetteville\, AR. 72701 \nJanuary 1- 31\, 2026
URL:https://inspirewithangela.com/event/stop-by-for-free-mlk-activity-sheets/
LOCATION:Trendsetter Barbershop & Salon\, 2039 North Green Acres Road\, Fayetteville\, 72703\, United States
ATTACH;FMTTYPE=image/jpeg:https://inspirewithangela.com/wp-content/uploads/2026/01/mlk-photo-2026.jpg
END:VEVENT
BEGIN:VEVENT
DTSTART;VALUE=DATE:20260201
DTEND;VALUE=DATE:20260301
DTSTAMP:20260424T083200
CREATED:20260201T223426Z
LAST-MODIFIED:20260201T223426Z
UID:1118-1769904000-1772323199@inspirewithangela.com
SUMMARY:BHM Poetry all Month!
DESCRIPTION:I’m sharing some of my most inspiring poems on social media that has impacted me. Reading an article\, seeing a commercial\, having a dream\, bumping into a stranger\, or just letting my internal compass speak directions of inspiration definitely have allowed me to create pieces that bring joy to my soul. \nJoin me this month!
URL:https://inspirewithangela.com/event/bhm-poetry-all-month/
ATTACH;FMTTYPE=image/jpeg:https://inspirewithangela.com/wp-content/uploads/2025/03/IMG_6760-rotated.jpg
END:VEVENT
BEGIN:VEVENT
DTSTART;VALUE=DATE:20260201
DTEND;VALUE=DATE:20260301
DTSTAMP:20260424T083200
CREATED:20260211T162405Z
LAST-MODIFIED:20260211T162405Z
UID:1123-1769904000-1772323199@inspirewithangela.com
SUMMARY:Black History Experience Cards
DESCRIPTION:This is my 5th year of collaborating with Levels2Barber Lounge to set up some things for our February Black Experience as we step into Black History Month. We have some items for your youth: Books\, snacks\, information\, and Community! Go get a great cut and grab your youth some free items. \nWill you celebrate all the good that's going on in your #Community
URL:https://inspirewithangela.com/event/black-history-experience-cards/
LOCATION:Levels2Barber Lounge\, 2597 North College Ave\, Fayetteville\, AR\, United States
ATTACH;FMTTYPE=image/jpeg:https://inspirewithangela.com/wp-content/uploads/2026/02/IMG_0290.jpg
END:VEVENT
BEGIN:VEVENT
DTSTART;TZID=UTC:20260418T100000
DTEND;TZID=UTC:20260418T140000
DTSTAMP:20260424T083200
CREATED:20260403T201219Z
LAST-MODIFIED:20260403T201219Z
UID:1130-1776506400-1776520800@inspirewithangela.com
SUMMARY:Arkansas Author's Children's Book Festival
DESCRIPTION:Come hang out with us for this great event filled with plenty of activities to keep your young one’s attention. And of course\, lots of Books!
URL:https://inspirewithangela.com/event/arkansas-authors-childrens-book-festival/
LOCATION:UCA Brewer Hegeman Conference Center\, 201 Donaghey Ave Ste 102\, Conway\, AR\, 72035\, United States
ATTACH;FMTTYPE=image/jpeg:https://inspirewithangela.com/wp-content/uploads/2026/04/Arkansas-Authors-Childrens-Book-Festival-Flyer.jpg
END:VEVENT
BEGIN:VEVENT
DTSTART;VALUE=DATE:20260501
DTEND;VALUE=DATE:20260601
DTSTAMP:20260424T083200
CREATED:20260403T205822Z
LAST-MODIFIED:20260408T175604Z
UID:1134-1777593600-1780271999@inspirewithangela.com
SUMMARY:7th Annual "May I" Book Giveaway
DESCRIPTION:Okay\, we are hitting our 7th year of making the month of May important. It’s all about YOU allowing ME to encourage your youth to keep those books handy and pages running through those fingers. We have enjoyed giving out books via our drawing on selected reads that we think you would love. We even give out books for adults: Remember\, Snoops cookbook? \nCome join in on our giveaway for the whole month of May 2026. \n  \nWe will see you by the book section!!
URL:https://inspirewithangela.com/event/7th-annual-may-i-book-giveaway/
ATTACH;FMTTYPE=image/png:https://inspirewithangela.com/wp-content/uploads/2026/04/7th-May-I-book-giveaway-2026-1.png
END:VEVENT
BEGIN:VEVENT
DTSTART;TZID=UTC:20260606T100000
DTEND;TZID=UTC:20260606T143000
DTSTAMP:20260424T083200
CREATED:20260408T202406Z
LAST-MODIFIED:20260413T213933Z
UID:1141-1780740000-1780756200@inspirewithangela.com
SUMMARY:Poetry and Pictogram Workshop
DESCRIPTION:I am so excited to bring my mini-workshop idea to life thanks to a grant from my community partners Community Literacies Collaboratory. \nThis event promises one thing: Opportunity! Where we get to encourage our young minds the opportunity to express themselves\, the opportunity to have fun learning\, and an opportunity to enhance literacy skills while pairing it with some amazing tools. We will incorporate Poetry and Pictograms to let our students dive into the world of imagination. \nPlease use the flyer which has a QR code to **register\, or you can do so here. \nYou will drop your child off starting at 9am to eat breakfast\, with the workshop starting at 10am. We ask that you come back at 2:15pm for pickup and to see some amazing posters that the youth have created…all without words\, but with images that showcases their creativity and unspoken voice! It’s going to be great! \n**space is limited so please register to help us prepare. \ncontact phone number is on the flyer if you need more information! \nWe will see you soon! \nAG
URL:https://inspirewithangela.com/event/poetry-and-pictogram-workshop/
LOCATION:McGill Center\, 521 North 6th Street\, Fort Smith\, 72901\, United States
ATTACH;FMTTYPE=image/png:https://inspirewithangela.com/wp-content/uploads/2026/04/Poetry-and-Pictogram-flyer-June-2026-5.png
END:VEVENT
END:VCALENDAR