BEGIN:VCALENDAR
VERSION:2.0
PRODID:-//Inspire With Angela - ECPv6.15.20//NONSGML v1.0//EN
CALSCALE:GREGORIAN
METHOD:PUBLISH
X-ORIGINAL-URL:https://inspirewithangela.com
X-WR-CALDESC:Events for Inspire With Angela
REFRESH-INTERVAL;VALUE=DURATION:PT1H
X-Robots-Tag:noindex
X-PUBLISHED-TTL:PT1H
BEGIN:VTIMEZONE
TZID:UTC
BEGIN:STANDARD
TZOFFSETFROM:+0000
TZOFFSETTO:+0000
TZNAME:UTC
DTSTART:20250101T000000
END:STANDARD
END:VTIMEZONE
BEGIN:VEVENT
DTSTART;VALUE=DATE:20260101
DTEND;VALUE=DATE:20260201
DTSTAMP:20260423T204151
CREATED:20260106T161845Z
LAST-MODIFIED:20260106T161845Z
UID:1112-1767225600-1769903999@inspirewithangela.com
SUMMARY:Stop by for FREE MLK activity sheets
DESCRIPTION:We have some activity sheets for your youth to grab-and-go with at the library this month. As we get closer to MLK day and remember the significance of a pivotal moment for Civil Rights\, we encourage you to stop by and use these activity sheets as conversation pieces for your youth as you share important teachings of civil rights and the impact they continue to have in our Black community and beyond. \nPlace: Trendsetter Barber Shop and Salon \nLocation: 2039 North Green Acres Road\, Fayetteville\, AR. 72701 \nJanuary 1- 31\, 2026
URL:https://inspirewithangela.com/event/stop-by-for-free-mlk-activity-sheets/
LOCATION:Trendsetter Barbershop & Salon\, 2039 North Green Acres Road\, Fayetteville\, 72703\, United States
ATTACH;FMTTYPE=image/jpeg:https://inspirewithangela.com/wp-content/uploads/2026/01/mlk-photo-2026.jpg
END:VEVENT
END:VCALENDAR