BEGIN:VCALENDAR
VERSION:2.0
PRODID:-//Inspire With Angela - ECPv6.15.20//NONSGML v1.0//EN
CALSCALE:GREGORIAN
METHOD:PUBLISH
X-ORIGINAL-URL:https://inspirewithangela.com
X-WR-CALDESC:Events for Inspire With Angela
REFRESH-INTERVAL;VALUE=DURATION:PT1H
X-Robots-Tag:noindex
X-PUBLISHED-TTL:PT1H
BEGIN:VTIMEZONE
TZID:UTC
BEGIN:STANDARD
TZOFFSETFROM:+0000
TZOFFSETTO:+0000
TZNAME:UTC
DTSTART:20240101T000000
END:STANDARD
END:VTIMEZONE
BEGIN:VEVENT
DTSTART;VALUE=DATE:20250501
DTEND;VALUE=DATE:20250601
DTSTAMP:20260424T075141
CREATED:20250501T152849Z
LAST-MODIFIED:20250501T152849Z
UID:1053-1746057600-1748735999@inspirewithangela.com
SUMMARY:"May I" Book giveaway for May
DESCRIPTION:We are back with our 6th annual book giveaway this year. So many joys and celebrations as we support summer reading within our communities. I hope you will be an advocate for summer reading and spread the good news about books. They change you\, support you\, and build you in so many ways! \nHead to my FB page for the giveaway event happening this month. Okay…head on over there!!
URL:https://inspirewithangela.com/event/may-i-book-giveaway-for-may/
ATTACH;FMTTYPE=image/jpeg:https://inspirewithangela.com/wp-content/uploads/2023/05/May-I-book-giveway-photo.jpg
END:VEVENT
BEGIN:VEVENT
DTSTART;VALUE=DATE:20250501
DTEND;VALUE=DATE:20250601
DTSTAMP:20260424T075141
CREATED:20250501T153756Z
LAST-MODIFIED:20250501T154808Z
UID:1055-1746057600-1748735999@inspirewithangela.com
SUMMARY:Youth Black Excellence Month
DESCRIPTION:If you know me by now\, I dont wait until a “holiday\,” on the calendar to make an event that inspires me! This is our youth black excellence month\, where I highlight the excellence that already exists. If you have a youth that you would like to be shouted out on my FB page\, please email me with a few pieces of information: \n\nName/photo (if desired)\nGrade their entering (off to college\, middle school\, program\, etc.)\nSomething wonderful that’s going on with them.\n\nWe would love to celebrate with you as we end another year of school\, activities\, accomplishments\, and greatness!
URL:https://inspirewithangela.com/event/youth-black-excellence-month/
ATTACH;FMTTYPE=image/jpeg:https://inspirewithangela.com/wp-content/uploads/2023/05/Comunity-Festival-SJMBC.jpg
END:VEVENT
BEGIN:VEVENT
DTSTART;VALUE=DATE:20250521
DTEND;VALUE=DATE:20250922
DTSTAMP:20260424T075141
CREATED:20250521T235026Z
LAST-MODIFIED:20250521T235026Z
UID:1058-1747785600-1758499199@inspirewithangela.com
SUMMARY:Sandbox- The joy of writing with Community Literacies Collaboration
DESCRIPTION:The Sandbox invites community literacies workers to write thought provoking\, accessible\, brief policy memos\, reports\, or essays on a timely issue within literacy learning and practice. \nPlease click the link below or here\, to enjoy my literacy narrative autobiography writing and other great writers who share their passions to inspire\, encourage\, and impact the world we live in. \n \nThank you CLC for our partnership to embrace literacy and its many facets. 
URL:https://inspirewithangela.com/event/sandbox-the-joy-of-writing-with-community-literacies-collaboration/
ATTACH;FMTTYPE=image/webp:https://inspirewithangela.com/wp-content/uploads/2025/05/Circle-Sticker-Book-Circle-2.webp
END:VEVENT
END:VCALENDAR