BEGIN:VCALENDAR
VERSION:2.0
PRODID:-//Inspire With Angela - ECPv6.15.20//NONSGML v1.0//EN
CALSCALE:GREGORIAN
METHOD:PUBLISH
X-ORIGINAL-URL:https://inspirewithangela.com
X-WR-CALDESC:Events for Inspire With Angela
REFRESH-INTERVAL;VALUE=DURATION:PT1H
X-Robots-Tag:noindex
X-PUBLISHED-TTL:PT1H
BEGIN:VTIMEZONE
TZID:UTC
BEGIN:STANDARD
TZOFFSETFROM:+0000
TZOFFSETTO:+0000
TZNAME:UTC
DTSTART:20240101T000000
END:STANDARD
END:VTIMEZONE
BEGIN:VEVENT
DTSTART;TZID=UTC:20250306T080000
DTEND;TZID=UTC:20250311T170000
DTSTAMP:20260424T115547
CREATED:20250307T140009Z
LAST-MODIFIED:20250320T153006Z
UID:1029-1741248000-1741712400@inspirewithangela.com
SUMMARY:Selma\, Alabama 60th Jubilee weekend
DESCRIPTION:I will be in Selma\, AL. commemorating this monumental day that changed our history and the present. Please feel free to check out this link to all things taking place from education\, discussions\, empowerment\, recognitions\, engaging leaders\, pioneers and so much more! \nSelma is not just a once-a-year event\, its a lifelong commitment to ensure the change that was fought for…that it remains the purpose that we continue to walk out. \n   \n 
URL:https://inspirewithangela.com/event/selma-alabama-60th-jubilee-weekend/
LOCATION:Selma\, AL.\, 7 US Highway 80 E\, Selma\, AL\, 36701\, United States
ATTACH;FMTTYPE=image/png:https://inspirewithangela.com/wp-content/uploads/2025/03/Selma-picture.png
END:VEVENT
END:VCALENDAR