BEGIN:VCALENDAR
VERSION:2.0
PRODID:-//Inspire With Angela - ECPv6.15.20//NONSGML v1.0//EN
CALSCALE:GREGORIAN
METHOD:PUBLISH
X-WR-CALNAME:Inspire With Angela
X-ORIGINAL-URL:https://inspirewithangela.com
X-WR-CALDESC:Events for Inspire With Angela
REFRESH-INTERVAL;VALUE=DURATION:PT1H
X-Robots-Tag:noindex
X-PUBLISHED-TTL:PT1H
BEGIN:VTIMEZONE
TZID:UTC
BEGIN:STANDARD
TZOFFSETFROM:+0000
TZOFFSETTO:+0000
TZNAME:UTC
DTSTART:20240101T000000
END:STANDARD
END:VTIMEZONE
BEGIN:VEVENT
DTSTART;VALUE=DATE:20250201
DTEND;VALUE=DATE:20250301
DTSTAMP:20260424T115540
CREATED:20250202T020638Z
LAST-MODIFIED:20250202T020638Z
UID:1000-1738368000-1740787199@inspirewithangela.com
SUMMARY:Black History Month activities
DESCRIPTION:Come along with me as I get connected to several great events throughout this February 2025 month. \nFollow me on Facebook for more updates.
URL:https://inspirewithangela.com/event/black-history-month-activities/
ATTACH;FMTTYPE=image/webp:https://inspirewithangela.com/wp-content/uploads/2025/02/0131-Black-History-Month.2025.webp
END:VEVENT
BEGIN:VEVENT
DTSTART;TZID=UTC:20250228T133000
DTEND;TZID=UTC:20250228T143000
DTSTAMP:20260424T115540
CREATED:20250307T131027Z
LAST-MODIFIED:20250307T131715Z
UID:1020-1740749400-1740753000@inspirewithangela.com
SUMMARY:University Middle School Memphis BHM event
DESCRIPTION:We had a blast talking to University Middle School students of Memphis\, TN. We brought a bit of the past to the present with engaging\, encouraging\, and “move your feet\,” discussions on the importance of who they are and to value that as they go through each day. \nThank you\, Principal Gilliam\, and Mr. Davenport for inviting us!  \nWe salute you!
URL:https://inspirewithangela.com/event/university-middle-school-memphis-bhm-event/
ATTACH;FMTTYPE=image/jpeg:https://inspirewithangela.com/wp-content/uploads/2025/03/IMG_6805.jpg
END:VEVENT
END:VCALENDAR