BEGIN:VCALENDAR
VERSION:2.0
PRODID:-//Inspire With Angela - ECPv6.15.20//NONSGML v1.0//EN
CALSCALE:GREGORIAN
METHOD:PUBLISH
X-WR-CALNAME:Inspire With Angela
X-ORIGINAL-URL:https://inspirewithangela.com
X-WR-CALDESC:Events for Inspire With Angela
REFRESH-INTERVAL;VALUE=DURATION:PT1H
X-Robots-Tag:noindex
X-PUBLISHED-TTL:PT1H
BEGIN:VTIMEZONE
TZID:UTC
BEGIN:STANDARD
TZOFFSETFROM:+0000
TZOFFSETTO:+0000
TZNAME:UTC
DTSTART:20210101T000000
END:STANDARD
END:VTIMEZONE
BEGIN:VEVENT
DTSTART;TZID=UTC:20221124T080000
DTEND;TZID=UTC:20221124T130000
DTSTAMP:20260426T015747
CREATED:20221126T212716Z
LAST-MODIFIED:20221126T212716Z
UID:667-1669276800-1669294800@inspirewithangela.com
SUMMARY:House of Mtenzi Forgotten Soul Fall Festival 2022
DESCRIPTION:It’s the 16th annual Festival made possible by the Forgotten Souls Coalition aiming to provide assistance for the homeless within the Memphis community. With feeding and clothing over 300 homeless citizens. RPReplay_Final1669385632  The coalition stands as a gap between the homeless and the involvement for all citizens who are privileged enough to make charitable donations or co-sponsor events with the organization.
URL:https://inspirewithangela.com/event/house-of-mtenzi-forgotten-soul-fall-festival-2022/
LOCATION:HOMM/Museum/Memphis\, 1289 Madison Avenue\, Memphis\, TN\, 38104\, United States
END:VEVENT
END:VCALENDAR